BEGIN:VCALENDAR
VERSION:2.0
PRODID:-//Straight Shot Firearms Training - ECPv6.15.20//NONSGML v1.0//EN
CALSCALE:GREGORIAN
METHOD:PUBLISH
X-WR-CALNAME:Straight Shot Firearms Training
X-ORIGINAL-URL:https://straightshotfirearmstrainingccwlasvegas.com
X-WR-CALDESC:Events for Straight Shot Firearms Training
REFRESH-INTERVAL;VALUE=DURATION:PT1H
X-Robots-Tag:noindex
X-PUBLISHED-TTL:PT1H
BEGIN:VTIMEZONE
TZID:America/Denver
BEGIN:DAYLIGHT
TZOFFSETFROM:-0700
TZOFFSETTO:-0600
TZNAME:MDT
DTSTART:20250309T090000
END:DAYLIGHT
BEGIN:STANDARD
TZOFFSETFROM:-0600
TZOFFSETTO:-0700
TZNAME:MST
DTSTART:20251102T080000
END:STANDARD
BEGIN:DAYLIGHT
TZOFFSETFROM:-0700
TZOFFSETTO:-0600
TZNAME:MDT
DTSTART:20260308T090000
END:DAYLIGHT
BEGIN:STANDARD
TZOFFSETFROM:-0600
TZOFFSETTO:-0700
TZNAME:MST
DTSTART:20261101T080000
END:STANDARD
BEGIN:DAYLIGHT
TZOFFSETFROM:-0700
TZOFFSETTO:-0600
TZNAME:MDT
DTSTART:20270314T090000
END:DAYLIGHT
BEGIN:STANDARD
TZOFFSETFROM:-0600
TZOFFSETTO:-0700
TZNAME:MST
DTSTART:20271107T080000
END:STANDARD
END:VTIMEZONE
BEGIN:VEVENT
DTSTART;TZID=America/Denver:20260419T090000
DTEND;TZID=America/Denver:20260419T130000
DTSTAMP:20260419T101651
CREATED:20260308T130227Z
LAST-MODIFIED:20260417T142311Z
UID:10000053-1776589200-1776603600@straightshotfirearmstrainingccwlasvegas.com
SUMMARY:CCW RENEWAL CLASS  9am $100 Cash preferred Or Zelle accepted
DESCRIPTION:Bring Firearm in A Secured Case W/ A couple loaded Mags NO STEEL CASE AMMO\nLEAVE FIREARMS IN A SECURED CASE IN THE TRUNK OF YOUR CAR  NO FIREARMS IN CLASS \nDoors open @ 8:45 am No Earlier \nReserve your seat now 702-612-7748 Text or leave message Or just show up \nIF YOU SMELL LIKE WEED OR ALCOHOL YOU WILL BE ASKED TO LEAVE \n\n\n                \n                        \n                            Booking Event\n                             \n							"*" indicates required fields \n                        \n                        FacebookThis field is for validation purposes and should be left unchanged.Name*Event Name*Email*\n                            \n                        Phone Number*
URL:https://straightshotfirearmstrainingccwlasvegas.com/event/ccw-renewal-class-9am-100-cash-preferred-or-zelle-accepted/
ATTACH;FMTTYPE=image/png:https://straightshotfirearmstrainingccwlasvegas.com/wp-content/uploads/2025/08/68b049b5d715d_IMG_2859.png
END:VEVENT
BEGIN:VEVENT
DTSTART;TZID=America/Denver:20260425T080000
DTEND;TZID=America/Denver:20260425T170000
DTSTAMP:20260419T101651
CREATED:20260329T123233Z
LAST-MODIFIED:20260417T142120Z
UID:10000065-1777104000-1777136400@straightshotfirearmstrainingccwlasvegas.com
SUMMARY:CCW CLASS FIRST TIMERS $120 Cash preferred or Zelle accepted
DESCRIPTION:BRING FIREARM IN A SECURED CASE OR RANGE BAG\nLEAVE FIREARM IN SECURED CASE IN YOUR CAR \nDOORS OPEN @ 8:45am NO EARLIER \nAny Questions Call or Text 702-612-7748\nIf you do not have a firearm\, I will provide one no extra charge\nIF YOU SMELL LIKE WEED OR ALCOHOL YOU WILL BE ASKRD TO LEAVE \n\n                \n                        \n                            Booking Event\n                             \n							"*" indicates required fields \n                        \n                        URLThis field is for validation purposes and should be left unchanged.Name*Event Name*Email*\n                            \n                        Phone Number*
URL:https://straightshotfirearmstrainingccwlasvegas.com/event/ccw-class-first-timers-120-cash-preferred-or-zelle-accepted-2/
ATTACH;FMTTYPE=image/webp:https://straightshotfirearmstrainingccwlasvegas.com/wp-content/uploads/2025/08/New-1912.webp
END:VEVENT
BEGIN:VEVENT
DTSTART;TZID=America/Denver:20260426T090000
DTEND;TZID=America/Denver:20260426T170000
DTSTAMP:20260419T101651
CREATED:20260308T130631Z
LAST-MODIFIED:20260417T141932Z
UID:10000056-1777194000-1777222800@straightshotfirearmstrainingccwlasvegas.com
SUMMARY:CCW FIRST TIMERS Or Renewals\, Renewals Are 9-1pm $120 Cash for first timers $100 renewals Cash Preferred Zelle accepted
DESCRIPTION:Bring Your Firearm in a Secured case / Backpack NOT ON PERSON OR IN HAND \nLeave firearm in the trunk of your car \nDOORS OPEN @ 8:45AM NO EARLIER \nIF THESE DATES WONT WORK CALL OR TEXT 702-612-7748\nTEXT OR CALL FOR A SPOT LEAVE MESSAGE OR TEXT \nIF YOU SMELL LIKE WEED OR ALCOHOL YOU WILL BE TURNED AWAY \n\n                \n                        \n                            Booking Event\n                             \n							"*" indicates required fields \n                        \n                        CompanyThis field is for validation purposes and should be left unchanged.Name*Event Name*Email*\n                            \n                        Phone Number*
URL:https://straightshotfirearmstrainingccwlasvegas.com/event/ccw-first-timers-or-renewals-renewals-are-9-1pm-120-cash-for-first-timers-100-renewals-cash-preferred-zelle-accepted-4/
ATTACH;FMTTYPE=image/jpeg:https://straightshotfirearmstrainingccwlasvegas.com/wp-content/uploads/2025/08/68b049abe65a5_IMG_2858.jpeg
END:VEVENT
END:VCALENDAR