BEGIN:VCALENDAR
VERSION:2.0
PRODID:-//Straight Shot Firearms Training - ECPv6.15.20//NONSGML v1.0//EN
CALSCALE:GREGORIAN
METHOD:PUBLISH
X-ORIGINAL-URL:https://straightshotfirearmstrainingccwlasvegas.com
X-WR-CALDESC:Events for Straight Shot Firearms Training
REFRESH-INTERVAL;VALUE=DURATION:PT1H
X-Robots-Tag:noindex
X-PUBLISHED-TTL:PT1H
BEGIN:VTIMEZONE
TZID:America/Denver
BEGIN:DAYLIGHT
TZOFFSETFROM:-0700
TZOFFSETTO:-0600
TZNAME:MDT
DTSTART:20250309T090000
END:DAYLIGHT
BEGIN:STANDARD
TZOFFSETFROM:-0600
TZOFFSETTO:-0700
TZNAME:MST
DTSTART:20251102T080000
END:STANDARD
BEGIN:DAYLIGHT
TZOFFSETFROM:-0700
TZOFFSETTO:-0600
TZNAME:MDT
DTSTART:20260308T090000
END:DAYLIGHT
BEGIN:STANDARD
TZOFFSETFROM:-0600
TZOFFSETTO:-0700
TZNAME:MST
DTSTART:20261101T080000
END:STANDARD
BEGIN:DAYLIGHT
TZOFFSETFROM:-0700
TZOFFSETTO:-0600
TZNAME:MDT
DTSTART:20270314T090000
END:DAYLIGHT
BEGIN:STANDARD
TZOFFSETFROM:-0600
TZOFFSETTO:-0700
TZNAME:MST
DTSTART:20271107T080000
END:STANDARD
END:VTIMEZONE
BEGIN:VEVENT
DTSTART;TZID=America/Denver:20260516T090000
DTEND;TZID=America/Denver:20260516T130000
DTSTAMP:20260419T182010
CREATED:20260408T184422Z
LAST-MODIFIED:20260417T141851Z
UID:10000070-1778922000-1778936400@straightshotfirearmstrainingccwlasvegas.com
SUMMARY:CCW RENEWAL CLASS  9am $100 Cash preferred Or Zelle accepted
DESCRIPTION:Bring Firearm in A Secured Case W/ A couple loaded Mags NO STEEL CASE AMMO\nLEAVE FIREARMS IN A SECURED CASE IN THE TRUNK OF YOUR CAR  NO FIREARMS IN CLASS \nDoors open @ 8:45 am No Earlier \nReserve your seat now 702-612-7748 Text or leave message Or just show up \n  \nIF YOU SMELL LIKE WEED OR ALCOHOL YOU WILL BE TURNED AWAY \n\n\n                \n                        \n                            Booking Event\n                             \n							"*" indicates required fields \n                        \n                        FacebookThis field is for validation purposes and should be left unchanged.Name*Event Name*Email*\n                            \n                        Phone Number*
URL:https://straightshotfirearmstrainingccwlasvegas.com/event/ccw-renewal-class-9am-100-cash-preferred-or-zelle-accepted-5/
ATTACH;FMTTYPE=image/png:https://straightshotfirearmstrainingccwlasvegas.com/wp-content/uploads/2025/08/68b049b5d715d_IMG_2859.png
END:VEVENT
BEGIN:VEVENT
DTSTART;TZID=America/Denver:20260517T090000
DTEND;TZID=America/Denver:20260517T170000
DTSTAMP:20260419T182010
CREATED:20260408T184505Z
LAST-MODIFIED:20260417T141846Z
UID:10000071-1779008400-1779037200@straightshotfirearmstrainingccwlasvegas.com
SUMMARY:CCW FIRST TIMERS Or Renewals\, Renewals Are 9-1pm $120 Cash for first timers $100 renewals Cash Preferred Zelle accepted
DESCRIPTION:Bring Your Firearm in a Secured case / Backpack NOT ON PERSON OR IN HAND \nLeave firearm in the trunk of your car \nDOORS OPEN @ 8:45AM NO EARLIER \nIF THESE DATES WONT WORK CALL OR TEXT 702-612-7748\nTEXT OR CALL FOR A SPOT LEAVE MESSAGE OR TEXT \nIF YOU SMELL LIKE WEED OR ALCOHOL YOU WILL BE TURNED AWAY \n\n                \n                        \n                            Booking Event\n                             \n							"*" indicates required fields \n                        \n                        PhoneThis field is for validation purposes and should be left unchanged.Name*Event Name*Email*\n                            \n                        Phone Number*
URL:https://straightshotfirearmstrainingccwlasvegas.com/event/ccw-first-timers-or-renewals-renewals-are-9-1pm-120-cash-for-first-timers-100-renewals-cash-preferred-zelle-accepted-10/
ATTACH;FMTTYPE=image/jpeg:https://straightshotfirearmstrainingccwlasvegas.com/wp-content/uploads/2025/08/68b049abe65a5_IMG_2858.jpeg
END:VEVENT
BEGIN:VEVENT
DTSTART;TZID=America/Denver:20260524T090000
DTEND;TZID=America/Denver:20260524T170000
DTSTAMP:20260419T182010
CREATED:20260408T184606Z
LAST-MODIFIED:20260417T141950Z
UID:10000072-1779613200-1779642000@straightshotfirearmstrainingccwlasvegas.com
SUMMARY:CCW FIRST TIMERS Or Renewals\, Renewals Are 9-1pm $120 Cash for first timers $100 renewals Cash Preferred Zelle accepted
DESCRIPTION:Bring Your Firearm in a Secured case / Backpack NOT ON PERSON OR IN HAND \nLeave firearm in the trunk of your car \nDOORS OPEN @ 8:45AM NO EARLIER \nIF THESE DATES WONT WORK CALL OR TEXT 702-612-7748\nTEXT OR CALL FOR A SPOT LEAVE MESSAGE OR TEXT \nIF YOU SMELL LIKE WEED OR ALCOHOL YOU WILL BE TURNED AWAY \n\n                \n                        \n                            Booking Event\n                             \n							"*" indicates required fields \n                        \n                        CompanyThis field is for validation purposes and should be left unchanged.Name*Event Name*Email*\n                            \n                        Phone Number*
URL:https://straightshotfirearmstrainingccwlasvegas.com/event/ccw-first-timers-or-renewals-renewals-are-9-1pm-120-cash-for-first-timers-100-renewals-cash-preferred-zelle-accepted-11/
ATTACH;FMTTYPE=image/jpeg:https://straightshotfirearmstrainingccwlasvegas.com/wp-content/uploads/2025/08/68b049abe65a5_IMG_2858.jpeg
END:VEVENT
END:VCALENDAR