BEGIN:VCALENDAR
VERSION:2.0
PRODID:-//Straight Shot Firearms Training - ECPv6.15.20//NONSGML v1.0//EN
CALSCALE:GREGORIAN
METHOD:PUBLISH
X-WR-CALNAME:Straight Shot Firearms Training
X-ORIGINAL-URL:https://straightshotfirearmstrainingccwlasvegas.com
X-WR-CALDESC:Events for Straight Shot Firearms Training
REFRESH-INTERVAL;VALUE=DURATION:PT1H
X-Robots-Tag:noindex
X-PUBLISHED-TTL:PT1H
BEGIN:VTIMEZONE
TZID:America/Denver
BEGIN:DAYLIGHT
TZOFFSETFROM:-0700
TZOFFSETTO:-0600
TZNAME:MDT
DTSTART:20250309T090000
END:DAYLIGHT
BEGIN:STANDARD
TZOFFSETFROM:-0600
TZOFFSETTO:-0700
TZNAME:MST
DTSTART:20251102T080000
END:STANDARD
BEGIN:DAYLIGHT
TZOFFSETFROM:-0700
TZOFFSETTO:-0600
TZNAME:MDT
DTSTART:20260308T090000
END:DAYLIGHT
BEGIN:STANDARD
TZOFFSETFROM:-0600
TZOFFSETTO:-0700
TZNAME:MST
DTSTART:20261101T080000
END:STANDARD
BEGIN:DAYLIGHT
TZOFFSETFROM:-0700
TZOFFSETTO:-0600
TZNAME:MDT
DTSTART:20270314T090000
END:DAYLIGHT
BEGIN:STANDARD
TZOFFSETFROM:-0600
TZOFFSETTO:-0700
TZNAME:MST
DTSTART:20271107T080000
END:STANDARD
END:VTIMEZONE
BEGIN:VEVENT
DTSTART;TZID=America/Denver:20260203T090000
DTEND;TZID=America/Denver:20260203T130000
DTSTAMP:20260419T195033
CREATED:20251029T191108Z
LAST-MODIFIED:20260417T143411Z
UID:10000028-1770109200-1770123600@straightshotfirearmstrainingccwlasvegas.com
SUMMARY:CCW RENEWAL Class $100 Cash preferred Zelle accepted
DESCRIPTION:Bring Firearm In A Secured Case W/ A couple loaded Mags NO STEEL CASINGS \nLEAVE FIREARM IN CASE OR BAG IN TRUNK OF CAR NO FIREARMS IN CLASS \nDoors open @ 8:45am NO EARLIER\nPlenty of seats Just show up\n\n\n                \n                        \n                            Booking Event\n                             \n							"*" indicates required fields \n                        \n                        FacebookThis field is for validation purposes and should be left unchanged.Name*Event Name*Email*\n                            \n                        Phone Number*
URL:https://straightshotfirearmstrainingccwlasvegas.com/event/ccw-renewal-class-100-2/
ATTACH;FMTTYPE=image/jpeg:https://straightshotfirearmstrainingccwlasvegas.com/wp-content/uploads/2025/09/Home-Invasion-Defensive-Position.jpg
END:VEVENT
BEGIN:VEVENT
DTSTART;TZID=America/Denver:20260201T090000
DTEND;TZID=America/Denver:20260201T170000
DTSTAMP:20260419T195033
CREATED:20250919T232649Z
LAST-MODIFIED:20260417T143427Z
UID:10000017-1769936400-1769965200@straightshotfirearmstrainingccwlasvegas.com
SUMMARY:First timers $120
DESCRIPTION:Bring Firearm in a Secured bag /With a couple loaded mags No Steel Case AMMO \nDoors open @8;45am NO EARLIER \nRenewals $100 First timers $125\nIF THESE DATES WON”T WORK CALL OR TEXT 702-612-7748\nCash Or Zelle Preferred After the class\nIF YOU HAVE ANY QUESTIONS CALL OR TEXT 702-612-7748\n\n                \n                        \n                            Booking Event\n                             \n							"*" indicates required fields \n                        \n                        CommentsThis field is for validation purposes and should be left unchanged.Name*Event Name*Email*\n                            \n                        Phone Number*
URL:https://straightshotfirearmstrainingccwlasvegas.com/event/renewal-first-timers-class-9am/
ATTACH;FMTTYPE=image/png:https://straightshotfirearmstrainingccwlasvegas.com/wp-content/uploads/2025/08/Rectangle-5-8.png
END:VEVENT
BEGIN:VEVENT
DTSTART;TZID=America/Denver:20260131T090000
DTEND;TZID=America/Denver:20260131T130000
DTSTAMP:20260419T195033
CREATED:20250923T181731Z
LAST-MODIFIED:20260417T143427Z
UID:10000019-1769850000-1769864400@straightshotfirearmstrainingccwlasvegas.com
SUMMARY:CCW RENEWAL Class $100 Cash preferred Or Zelle accepted after class
DESCRIPTION:Bring Firearm in a secured case or bag W/ A couple of loaded mags NO STEEL CASED AMMO \nLEAVE FIREARM IN TRUNK OF VEHICLE \nNO FIREARMS IN CLASSROOM\nDOORS OPEN @ 8;45am No earlier \nJust show up @ 8:45 Or Text for details 702-612-7748\nReserve your spot now\n\n                \n                        \n                            Booking Event\n                             \n							"*" indicates required fields \n                        \n                        InstagramThis field is for validation purposes and should be left unchanged.Name*Event Name*Email*\n                            \n                        Phone Number*
URL:https://straightshotfirearmstrainingccwlasvegas.com/event/ccw-renewal-class-100/
ATTACH;FMTTYPE=image/jpeg:https://straightshotfirearmstrainingccwlasvegas.com/wp-content/uploads/2025/08/fmf_7206.jpg
END:VEVENT
BEGIN:VEVENT
DTSTART;TZID=America/Denver:20260129T090000
DTEND;TZID=America/Denver:20260129T170000
DTSTAMP:20260419T195033
CREATED:20251223T175706Z
LAST-MODIFIED:20260417T143427Z
UID:10000032-1769677200-1769706000@straightshotfirearmstrainingccwlasvegas.com
SUMMARY:CCW CLASS FIRST TIMERS  9am Cost is $120 Cash preferred Or Zelle accepted
DESCRIPTION:Bring Firearm in a Secured case or Bag\nLEAVE FIREARM IN TRUNK IF CAR NO FIREARMS IN THE CLASSROOM \nDoors open @ 845 am NO EARLIER \n Any Questions Text or Leave message 702-612-7748\nPlenty seats available\n\n                \n                        \n                            Booking Event\n                             \n							"*" indicates required fields \n                        \n                        FacebookThis field is for validation purposes and should be left unchanged.Name*Event Name*Email*\n                            \n                        Phone Number*
URL:https://straightshotfirearmstrainingccwlasvegas.com/event/ccw-class-first-timers-9am-cost-is-120-cash-or-zelle/
ATTACH;FMTTYPE=image/png:https://straightshotfirearmstrainingccwlasvegas.com/wp-content/uploads/2025/08/68b049b5d715d_IMG_2859.png
END:VEVENT
BEGIN:VEVENT
DTSTART;TZID=America/Denver:20260118T090000
DTEND;TZID=America/Denver:20260118T130000
DTSTAMP:20260419T195033
CREATED:20251201T013629Z
LAST-MODIFIED:20260417T143437Z
UID:10000030-1768726800-1768741200@straightshotfirearmstrainingccwlasvegas.com
SUMMARY:RENEWAL CLASS $100 Cash preferred Or Zelle accepted
DESCRIPTION:Bring Firearm in A secured case or bag \nLEAVE FIREARM IN CASE IN TRUNK OF CAR NO FIREARMS IN CLASS \nDoors open @ 8:45am No Earlier \nIf you have any Questions Call or Text 702-612-7748\n\n                \n                        \n                            Booking Event\n                             \n							"*" indicates required fields \n                        \n                        CompanyThis field is for validation purposes and should be left unchanged.Name*Event Name*Email*\n                            \n                        Phone Number*
URL:https://straightshotfirearmstrainingccwlasvegas.com/event/renewal-class-100-cash-or-zelle/
ATTACH;FMTTYPE=image/png:https://straightshotfirearmstrainingccwlasvegas.com/wp-content/uploads/2025/08/68b049b5d715d_IMG_2859.png
END:VEVENT
END:VCALENDAR