BEGIN:VCALENDAR
VERSION:2.0
PRODID:-//Straight Shot Firearms Training - ECPv6.15.20//NONSGML v1.0//EN
CALSCALE:GREGORIAN
METHOD:PUBLISH
X-ORIGINAL-URL:https://straightshotfirearmstrainingccwlasvegas.com
X-WR-CALDESC:Events for Straight Shot Firearms Training
REFRESH-INTERVAL;VALUE=DURATION:PT1H
X-Robots-Tag:noindex
X-PUBLISHED-TTL:PT1H
BEGIN:VTIMEZONE
TZID:America/Denver
BEGIN:DAYLIGHT
TZOFFSETFROM:-0700
TZOFFSETTO:-0600
TZNAME:MDT
DTSTART:20250309T090000
END:DAYLIGHT
BEGIN:STANDARD
TZOFFSETFROM:-0600
TZOFFSETTO:-0700
TZNAME:MST
DTSTART:20251102T080000
END:STANDARD
BEGIN:DAYLIGHT
TZOFFSETFROM:-0700
TZOFFSETTO:-0600
TZNAME:MDT
DTSTART:20260308T090000
END:DAYLIGHT
BEGIN:STANDARD
TZOFFSETFROM:-0600
TZOFFSETTO:-0700
TZNAME:MST
DTSTART:20261101T080000
END:STANDARD
BEGIN:DAYLIGHT
TZOFFSETFROM:-0700
TZOFFSETTO:-0600
TZNAME:MDT
DTSTART:20270314T090000
END:DAYLIGHT
BEGIN:STANDARD
TZOFFSETFROM:-0600
TZOFFSETTO:-0700
TZNAME:MST
DTSTART:20271107T080000
END:STANDARD
END:VTIMEZONE
BEGIN:VEVENT
DTSTART;TZID=America/Denver:20260327T090000
DTEND;TZID=America/Denver:20260327T170000
DTSTAMP:20260419T133630
CREATED:20260205T122103Z
LAST-MODIFIED:20260417T142655Z
UID:10000041-1774602000-1774630800@straightshotfirearmstrainingccwlasvegas.com
SUMMARY:CCW FIRST TIMERS Or Renewals\, Renewals Are 9-1pm $120 Cash for first timers $100 renewals Cash Preferred Zelle accepted
DESCRIPTION:Bring Your Firearm in a Secured case / Backpack NOT ON PERSON OR IN HAND \nLeave firearm in the trunk of your car \nDOORS OPEN @ 8:45AM NO EARLIER \nIF THESE DATES WONT WORK CALL OR TEXT 702-612-7748\nTEXT OR CALL FOR A SPOT LEAVE MESSAGE OR TEXT \n\n\n                \n                        \n                            Booking Event\n                             \n							"*" indicates required fields \n                        \n                        CommentsThis field is for validation purposes and should be left unchanged.Name*Event Name*Email*\n                            \n                        Phone Number*
URL:https://straightshotfirearmstrainingccwlasvegas.com/event/ccw-first-timers-or-renewals-renewals-are-9-1pm-120-cash-for-first-timers-100-renewals-cash-preferred-zelle-accepted/
ATTACH;FMTTYPE=image/jpeg:https://straightshotfirearmstrainingccwlasvegas.com/wp-content/uploads/2025/08/68b049abe65a5_IMG_2858.jpeg
END:VEVENT
END:VCALENDAR