BEGIN:VCALENDAR
VERSION:2.0
PRODID:-//Straight Shot Firearms Training - ECPv6.15.20//NONSGML v1.0//EN
CALSCALE:GREGORIAN
METHOD:PUBLISH
X-WR-CALNAME:Straight Shot Firearms Training
X-ORIGINAL-URL:https://straightshotfirearmstrainingccwlasvegas.com
X-WR-CALDESC:Events for Straight Shot Firearms Training
REFRESH-INTERVAL;VALUE=DURATION:PT1H
X-Robots-Tag:noindex
X-PUBLISHED-TTL:PT1H
BEGIN:VTIMEZONE
TZID:America/Denver
BEGIN:DAYLIGHT
TZOFFSETFROM:-0700
TZOFFSETTO:-0600
TZNAME:MDT
DTSTART:20250309T090000
END:DAYLIGHT
BEGIN:STANDARD
TZOFFSETFROM:-0600
TZOFFSETTO:-0700
TZNAME:MST
DTSTART:20251102T080000
END:STANDARD
BEGIN:DAYLIGHT
TZOFFSETFROM:-0700
TZOFFSETTO:-0600
TZNAME:MDT
DTSTART:20260308T090000
END:DAYLIGHT
BEGIN:STANDARD
TZOFFSETFROM:-0600
TZOFFSETTO:-0700
TZNAME:MST
DTSTART:20261101T080000
END:STANDARD
BEGIN:DAYLIGHT
TZOFFSETFROM:-0700
TZOFFSETTO:-0600
TZNAME:MDT
DTSTART:20270314T090000
END:DAYLIGHT
BEGIN:STANDARD
TZOFFSETFROM:-0600
TZOFFSETTO:-0700
TZNAME:MST
DTSTART:20271107T080000
END:STANDARD
END:VTIMEZONE
BEGIN:VEVENT
DTSTART;TZID=America/Denver:20260325T090000
DTEND;TZID=America/Denver:20260325T130000
DTSTAMP:20260419T131630
CREATED:20260226T002650Z
LAST-MODIFIED:20260417T142727Z
UID:10000048-1774429200-1774443600@straightshotfirearmstrainingccwlasvegas.com
SUMMARY:CCW RENEWAL CLASS  9am $100 Cash Preferred or Zelle is accepted
DESCRIPTION:Bring Firearm in A Secured Case W/ A couple loaded Mags NO STEEL CASE AMMO\nLEAVE FIREARM IN THE TRUNK OF YOUR CAR\, NO FIREARMS ALLOWED IN CLASSROOM   \nDoors open @ 8:45 am No Earlier \nReserve your seat now 702-612-7748 Text or leave message or just show up \n\n\n                \n                        \n                            Booking Event\n                             \n							"*" indicates required fields \n                        \n                        NameThis field is for validation purposes and should be left unchanged.Name*Event Name*Email*\n                            \n                        Phone Number*
URL:https://straightshotfirearmstrainingccwlasvegas.com/event/ccw-renewal-class-9am-100-cash-preferred-or-zelle-is-accepted-2/
ATTACH;FMTTYPE=image/png:https://straightshotfirearmstrainingccwlasvegas.com/wp-content/uploads/2025/08/68b049b5d715d_IMG_2859.png
END:VEVENT
BEGIN:VEVENT
DTSTART;TZID=America/Denver:20260325T090000
DTEND;TZID=America/Denver:20260325T130000
DTSTAMP:20260419T131630
CREATED:20260305T220835Z
LAST-MODIFIED:20260417T142708Z
UID:10000050-1774429200-1774443600@straightshotfirearmstrainingccwlasvegas.com
SUMMARY:Renewal only Class $100 cash preferred or Zelle accepted
DESCRIPTION:Doors open @ 8:45am No Earlier\nBring Firearm in a Secured Bag With a couple of loaded Mags NO STEEL CASED AMMO\nLeave firearm in the trunk of car during class \nNO FIREARMS IN CLASSROOM \nJust show up or Call or text 702-612-7748\nIf these dates won’t work for you Call or text 702-612-7748\n\n                \n                        \n                            Booking Event\n                             \n							"*" indicates required fields \n                        \n                        FacebookThis field is for validation purposes and should be left unchanged.Name*Event Name*Email*\n                            \n                        Phone Number*
URL:https://straightshotfirearmstrainingccwlasvegas.com/event/renewal-only-class-100-cash-preferred-or-zelle-accepted/
ATTACH;FMTTYPE=image/webp:https://straightshotfirearmstrainingccwlasvegas.com/wp-content/uploads/2025/08/42954f9b-1e29-4355-a988-39fae894aa7b.webp
END:VEVENT
END:VCALENDAR