BEGIN:VCALENDAR
VERSION:2.0
PRODID:-//Straight Shot Firearms Training - ECPv6.15.20//NONSGML v1.0//EN
CALSCALE:GREGORIAN
METHOD:PUBLISH
X-WR-CALNAME:Straight Shot Firearms Training
X-ORIGINAL-URL:https://straightshotfirearmstrainingccwlasvegas.com
X-WR-CALDESC:Events for Straight Shot Firearms Training
REFRESH-INTERVAL;VALUE=DURATION:PT1H
X-Robots-Tag:noindex
X-PUBLISHED-TTL:PT1H
BEGIN:VTIMEZONE
TZID:America/Denver
BEGIN:DAYLIGHT
TZOFFSETFROM:-0700
TZOFFSETTO:-0600
TZNAME:MDT
DTSTART:20250309T090000
END:DAYLIGHT
BEGIN:STANDARD
TZOFFSETFROM:-0600
TZOFFSETTO:-0700
TZNAME:MST
DTSTART:20251102T080000
END:STANDARD
BEGIN:DAYLIGHT
TZOFFSETFROM:-0700
TZOFFSETTO:-0600
TZNAME:MDT
DTSTART:20260308T090000
END:DAYLIGHT
BEGIN:STANDARD
TZOFFSETFROM:-0600
TZOFFSETTO:-0700
TZNAME:MST
DTSTART:20261101T080000
END:STANDARD
BEGIN:DAYLIGHT
TZOFFSETFROM:-0700
TZOFFSETTO:-0600
TZNAME:MDT
DTSTART:20270314T090000
END:DAYLIGHT
BEGIN:STANDARD
TZOFFSETFROM:-0600
TZOFFSETTO:-0700
TZNAME:MST
DTSTART:20271107T080000
END:STANDARD
END:VTIMEZONE
BEGIN:VEVENT
DTSTART;TZID=America/Denver:20260322T090000
DTEND;TZID=America/Denver:20260322T170000
DTSTAMP:20260419T132509
CREATED:20260224T024622Z
LAST-MODIFIED:20260417T142743Z
UID:10000047-1774170000-1774198800@straightshotfirearmstrainingccwlasvegas.com
SUMMARY:CCW First Timers $120 Cash preferred Or Zelle accepted
DESCRIPTION:CCW FIRST TIMERS 9 AM \nBring Firearm In A secured case or bag\nLEAVE FIREARM IN SECURED BAG IN TRUNK OF CAR NO FIREARMS IN CLASS \nDoors Open @ 8:45am No Earlier \nPlenty of seats available Just call or text for more details 702-612-7748\nIf you do not have a firearm I will provide one no extra charge\n\n\n                \n                        \n                            Booking Event\n                             \n							"*" indicates required fields \n                        \n                        URLThis field is for validation purposes and should be left unchanged.Name*Event Name*Email*\n                            \n                        Phone Number*
URL:https://straightshotfirearmstrainingccwlasvegas.com/event/ccw-first-timers-120-cash-preferred-or-zelle-accepted/
ATTACH;FMTTYPE=image/webp:https://straightshotfirearmstrainingccwlasvegas.com/wp-content/uploads/2025/09/Rectangle-1-1.webp
END:VEVENT
END:VCALENDAR