BEGIN:VCALENDAR
VERSION:2.0
PRODID:-//Straight Shot Firearms Training - ECPv6.15.20//NONSGML v1.0//EN
CALSCALE:GREGORIAN
METHOD:PUBLISH
X-ORIGINAL-URL:https://straightshotfirearmstrainingccwlasvegas.com
X-WR-CALDESC:Events for Straight Shot Firearms Training
REFRESH-INTERVAL;VALUE=DURATION:PT1H
X-Robots-Tag:noindex
X-PUBLISHED-TTL:PT1H
BEGIN:VTIMEZONE
TZID:America/Denver
BEGIN:DAYLIGHT
TZOFFSETFROM:-0700
TZOFFSETTO:-0600
TZNAME:MDT
DTSTART:20250309T090000
END:DAYLIGHT
BEGIN:STANDARD
TZOFFSETFROM:-0600
TZOFFSETTO:-0700
TZNAME:MST
DTSTART:20251102T080000
END:STANDARD
BEGIN:DAYLIGHT
TZOFFSETFROM:-0700
TZOFFSETTO:-0600
TZNAME:MDT
DTSTART:20260308T090000
END:DAYLIGHT
BEGIN:STANDARD
TZOFFSETFROM:-0600
TZOFFSETTO:-0700
TZNAME:MST
DTSTART:20261101T080000
END:STANDARD
BEGIN:DAYLIGHT
TZOFFSETFROM:-0700
TZOFFSETTO:-0600
TZNAME:MDT
DTSTART:20270314T090000
END:DAYLIGHT
BEGIN:STANDARD
TZOFFSETFROM:-0600
TZOFFSETTO:-0700
TZNAME:MST
DTSTART:20271107T080000
END:STANDARD
END:VTIMEZONE
BEGIN:VEVENT
DTSTART;TZID=America/Denver:20260222T090000
DTEND;TZID=America/Denver:20260222T130000
DTSTAMP:20260419T150644
CREATED:20251103T223051Z
LAST-MODIFIED:20260417T143111Z
UID:10000029-1771750800-1771765200@straightshotfirearmstrainingccwlasvegas.com
SUMMARY:CCW RENEWAL CLASS  9am  $100 Cash preferred Or Zelle accepted
DESCRIPTION:Bring Firearm in A Secured Case W/ A couple loaded Mags NO STEEL CASE AMMO \nNO FIREARMS IN CLASSROOM LEAVE IN TRUNK OF CAR \nDoors open @ 8:45 am No Earlier \nReserve your seat now 702-612-7748 Text or leave message Or just show up \n\n\n                \n                        \n                            Booking Event\n                             \n							"*" indicates required fields \n                        \n                        CommentsThis field is for validation purposes and should be left unchanged.Name*Event Name*Email*\n                            \n                        Phone Number*
URL:https://straightshotfirearmstrainingccwlasvegas.com/event/ccw-renewal-class-9am-100-cash-or-zelle/
ATTACH;FMTTYPE=image/png:https://straightshotfirearmstrainingccwlasvegas.com/wp-content/uploads/2025/08/68b049b5d715d_IMG_2859.png
END:VEVENT
END:VCALENDAR